BEGIN:VCALENDAR
VERSION:2.0
PRODID:-//jEvents 2.0 for Joomla//EN
CALSCALE:GREGORIAN
METHOD:PUBLISH
BEGIN:VTIMEZONE
TZID:Europe/Berlin
BEGIN:STANDARD
DTSTART:20241027T020000
RDATE:20250330T030000
TZOFFSETFROM:+0200
TZOFFSETTO:+0100
TZNAME:Europe/Berlin CET
END:STANDARD
BEGIN:STANDARD
DTSTART:20251026T020000
RDATE:20260329T030000
TZOFFSETFROM:+0200
TZOFFSETTO:+0100
TZNAME:Europe/Berlin CET
END:STANDARD
BEGIN:STANDARD
DTSTART:20261025T020000
RDATE:20270328T030000
TZOFFSETFROM:+0200
TZOFFSETTO:+0100
TZNAME:Europe/Berlin CET
END:STANDARD
BEGIN:STANDARD
DTSTART:20271031T020000
RDATE:20280326T030000
TZOFFSETFROM:+0200
TZOFFSETTO:+0100
TZNAME:Europe/Berlin CET
END:STANDARD
BEGIN:DAYLIGHT
DTSTART:20240906T193000
RDATE:20241027T020000
TZOFFSETFROM:+0100
TZOFFSETTO:+0200
TZNAME:Europe/Berlin CEST
END:DAYLIGHT
BEGIN:DAYLIGHT
DTSTART:20250330T030000
RDATE:20251026T020000
TZOFFSETFROM:+0100
TZOFFSETTO:+0200
TZNAME:Europe/Berlin CEST
END:DAYLIGHT
BEGIN:DAYLIGHT
DTSTART:20260329T030000
RDATE:20261025T020000
TZOFFSETFROM:+0100
TZOFFSETTO:+0200
TZNAME:Europe/Berlin CEST
END:DAYLIGHT
BEGIN:DAYLIGHT
DTSTART:20270328T030000
RDATE:20271031T020000
TZOFFSETFROM:+0100
TZOFFSETTO:+0200
TZNAME:Europe/Berlin CEST
END:DAYLIGHT
END:VTIMEZONE
BEGIN:VEVENT
UID:9d956a3bbf0ce8f586855e795f92c569
CATEGORIES:Sternwarte Bieselsberg
CREATED:20250902T112432
SUMMARY:Totale Mondfinsternis
LOCATION:Sternwarte Bieselsberg\, Maisenbacher Weg\, 75328 Schömberg-Bieselsberg
DESCRIPTION:Totale Mondfinsternis ab kurz nach 20 Uhr – Beobachtung an der Sternwarte (
 siehe Aktuelle Nachrichten)\nDie Veranstaltung findet nur bei wolkenfreier 
 Sicht nach Osten statt\n
X-ALT-DESC;FMTTYPE=text/html:<p>Totale Mondfinsternis ab kurz nach 20 Uhr – Beobachtung an der Sternwart
 e (siehe Aktuelle Nachrichten)</p><p><span style="color: rgb(224, 62, 45);"
 >Die Veranstaltung findet nur bei wolkenfreier Sicht nach Osten statt</span
 ></p>
DTSTAMP:20260421T095111
DTSTART;TZID=Europe/Berlin:20250907T193000
DTEND;TZID=Europe/Berlin:20250907T220000
SEQUENCE:0
TRANSP:OPAQUE
END:VEVENT
END:VCALENDAR